BEGIN:VCALENDAR
VERSION:2.0
PRODID:-//Thai Bank Holiday//NONSGML v1.0//EN
BEGIN:VEVENT
SUMMARY:New Year’s Day
DTSTART;VALUE=DATE:20260101
DTEND;VALUE=DATE:20260101
DTSTAMP:20260202T035350Z
UID:BOT-20260101
END:VEVENT
BEGIN:VEVENT
SUMMARY:Additional special holiday
DTSTART;VALUE=DATE:20260102
DTEND;VALUE=DATE:20260102
DTSTAMP:20260202T035350Z
UID:BOT-20260102
END:VEVENT
BEGIN:VEVENT
SUMMARY:Makha Bucha Day
DTSTART;VALUE=DATE:20260303
DTEND;VALUE=DATE:20260303
DTSTAMP:20260202T035350Z
UID:BOT-20260303
END:VEVENT
BEGIN:VEVENT
SUMMARY:Chakri Memorial Day
DTSTART;VALUE=DATE:20260406
DTEND;VALUE=DATE:20260406
DTSTAMP:20260202T035350Z
UID:BOT-20260406
END:VEVENT
BEGIN:VEVENT
SUMMARY:Songkran Festival
DTSTART;VALUE=DATE:20260413
DTEND;VALUE=DATE:20260413
DTSTAMP:20260202T035350Z
UID:BOT-20260413
END:VEVENT
BEGIN:VEVENT
SUMMARY:Songkran Festival
DTSTART;VALUE=DATE:20260414
DTEND;VALUE=DATE:20260414
DTSTAMP:20260202T035350Z
UID:BOT-20260414
END:VEVENT
BEGIN:VEVENT
SUMMARY:Songkran Festival
DTSTART;VALUE=DATE:20260415
DTEND;VALUE=DATE:20260415
DTSTAMP:20260202T035350Z
UID:BOT-20260415
END:VEVENT
BEGIN:VEVENT
SUMMARY:National Labor Day
DTSTART;VALUE=DATE:20260501
DTEND;VALUE=DATE:20260501
DTSTAMP:20260202T035350Z
UID:BOT-20260501
END:VEVENT
BEGIN:VEVENT
SUMMARY:Coronation Day
DTSTART;VALUE=DATE:20260504
DTEND;VALUE=DATE:20260504
DTSTAMP:20260202T035350Z
UID:BOT-20260504
END:VEVENT
BEGIN:VEVENT
SUMMARY:Substitution for Visakha Bucha Day (Sunday 31st May 2026)
DTSTART;VALUE=DATE:20260601
DTEND;VALUE=DATE:20260601
DTSTAMP:20260202T035350Z
UID:BOT-20260601
END:VEVENT
BEGIN:VEVENT
SUMMARY:H.M. Queen Suthida Bajrasudhabimalalakshana’s Birthday
DTSTART;VALUE=DATE:20260603
DTEND;VALUE=DATE:20260603
DTSTAMP:20260202T035350Z
UID:BOT-20260603
END:VEVENT
BEGIN:VEVENT
SUMMARY:H.M. King Maha Vajiralongkorn Phra Vajiraklaochaoyuhua’s Birthda
 y
DTSTART;VALUE=DATE:20260728
DTEND;VALUE=DATE:20260728
DTSTAMP:20260202T035350Z
UID:BOT-20260728
END:VEVENT
BEGIN:VEVENT
SUMMARY:Asarnha Bucha Day
DTSTART;VALUE=DATE:20260729
DTEND;VALUE=DATE:20260729
DTSTAMP:20260202T035350Z
UID:BOT-20260729
END:VEVENT
BEGIN:VEVENT
SUMMARY:H.M. Queen Sirikit the Queen Mother’s Birthday and Mother’s Da
 y
DTSTART;VALUE=DATE:20260812
DTEND;VALUE=DATE:20260812
DTSTAMP:20260202T035350Z
UID:BOT-20260812
END:VEVENT
BEGIN:VEVENT
SUMMARY:H.M. King Bhumibol Adulyadej the Great Memorial Day
DTSTART;VALUE=DATE:20261013
DTEND;VALUE=DATE:20261013
DTSTAMP:20260202T035350Z
UID:BOT-20261013
END:VEVENT
BEGIN:VEVENT
SUMMARY:H.M. King Chulalongkorn the Great Memorial Day
DTSTART;VALUE=DATE:20261023
DTEND;VALUE=DATE:20261023
DTSTAMP:20260202T035350Z
UID:BOT-20261023
END:VEVENT
BEGIN:VEVENT
SUMMARY:Substitution for H.M. King Bhumibol Adulyadej the Great’s Birthd
 ay\, National Day and Father’s Day (Saturday 5th December 2026)
DTSTART;VALUE=DATE:20261207
DTEND;VALUE=DATE:20261207
DTSTAMP:20260202T035350Z
UID:BOT-20261207
END:VEVENT
BEGIN:VEVENT
SUMMARY:Constitution Day
DTSTART;VALUE=DATE:20261210
DTEND;VALUE=DATE:20261210
DTSTAMP:20260202T035350Z
UID:BOT-20261210
END:VEVENT
BEGIN:VEVENT
SUMMARY:New Year’s Eve
DTSTART;VALUE=DATE:20261231
DTEND;VALUE=DATE:20261231
DTSTAMP:20260202T035350Z
UID:BOT-20261231
END:VEVENT
END:VCALENDAR
